BEGIN:VCALENDAR
VERSION:2.0
PRODID:-//Ana Fatima Costa - ECPv6.0.13.1//NONSGML v1.0//EN
CALSCALE:GREGORIAN
METHOD:PUBLISH
X-WR-CALNAME:Ana Fatima Costa
X-ORIGINAL-URL:https://anafatimacosta.com
X-WR-CALDESC:Events for Ana Fatima Costa
REFRESH-INTERVAL;VALUE=DURATION:PT1H
X-Robots-Tag:noindex
X-PUBLISHED-TTL:PT1H
BEGIN:VTIMEZONE
TZID:America/Los_Angeles
BEGIN:DAYLIGHT
TZOFFSETFROM:-0800
TZOFFSETTO:-0700
TZNAME:PDT
DTSTART:20210314T100000
END:DAYLIGHT
BEGIN:STANDARD
TZOFFSETFROM:-0700
TZOFFSETTO:-0800
TZNAME:PST
DTSTART:20211107T090000
END:STANDARD
END:VTIMEZONE
BEGIN:VEVENT
DTSTART;TZID=America/Los_Angeles:20211109T150000
DTEND;TZID=America/Los_Angeles:20211109T183000
DTSTAMP:20260424T094200
CREATED:20211109T192704Z
LAST-MODIFIED:20211109T192713Z
UID:225487-1636470000-1636482600@anafatimacosta.com
SUMMARY:Fall 2021 BerkeleyLaw Mock Depositions
DESCRIPTION:Three simultaneous mock deposition sessions reported by high-speed court reporting student apprentices whose main task is to speak up for the record in order to produce rough drafts. \nUnlike traditional internships\, where a reporting student shadows a working reporter\, my apprentices learn how to be THE REPORTER:  They speak up as often as needed to get the best record they can\, mark exhibits\, and produce rough draft transcripts. \nThese mock events are win-win opportunities for all participants: \n• Law students and lawyers benefit from a reporter interrupting them to ensure the integrity of the record when they mumble\, speak too fast\, or talk over one another. Later\, by reading my apprentices’ rough drafts or final transcripts\, they learn how to improve their questioning and defending skills and future performance. \n• Reporting students and new reporters learn to manage fear\, nervousness\, and anxiety; how and when to interrupt; develop self-confidence; and immediately utilize the lessons from these extra-curricular practical skills events in their training and career.
URL:https://anafatimacosta.com/event/fall-2021-berkeleylaw-mock-depositions-3-2/
LOCATION:UC Berkeley School of Law
CATEGORIES:Court Reporting Trainer
ATTACH;FMTTYPE=image/jpeg:https://anafatimacosta.com/wp-content/uploads/2021/10/244443610_10223263601472909_5444078846225158518_n.jpg
END:VEVENT
BEGIN:VEVENT
DTSTART;TZID=America/Los_Angeles:20211106T090000
DTEND;TZID=America/Los_Angeles:20211106T120000
DTSTAMP:20260424T094200
CREATED:20211007T165100Z
LAST-MODIFIED:20211012T232943Z
UID:225331-1636189200-1636200000@anafatimacosta.com
SUMMARY:San Francisco Trial Lawyers Association’s Annual Mock Trials
DESCRIPTION:Four law schools compete in two simultaneous mock trial sessions in the morning and afternoon reported by high-speed court reporting student apprentices whose main task is to speak up for the record in order to produce rough drafts. \nUnlike traditional internships\, where a reporting student shadows a working reporter\, my apprentices learn how to be THE REPORTER: They speak up as often as needed to get the best record they can\, mark exhibits\, and produce rough draft transcripts. \nThese mock events are win-win opportunities for all participants: \n•Law students and lawyers benefit from a reporter interrupting them to ensure the integrity of the record when they mumble\, speak too fast\, or talk over one another. Later\, by reading my apprentices’ rough drafts or final transcripts\, they learn how to improve their questioning and defending skills and future performance. \n•Reporting students and new reporters learn to manage fear\, nervousness\, and anxiety; how and when to interrupt; develop self-confidence; and immediately utilize the lessons from these extra-curricular practical skills events in their training and career.
URL:https://anafatimacosta.com/event/sftla-annual-mock-trials/
CATEGORIES:Court Reporting Trainer
ATTACH;FMTTYPE=image/png:https://anafatimacosta.com/wp-content/uploads/2021/10/SFTLA-Fall-2021-Mock-Trials3.png
END:VEVENT
BEGIN:VEVENT
DTSTART;TZID=America/Los_Angeles:20211024T090000
DTEND;TZID=America/Los_Angeles:20211024T120000
DTSTAMP:20260424T094200
CREATED:20211008T212426Z
LAST-MODIFIED:20211012T234640Z
UID:225344-1635066000-1635076800@anafatimacosta.com
SUMMARY:Golden Gate University School of Law’s Final Mock Trial
DESCRIPTION:Sixteen law schools from throughout the U.S. compete in 23 mock trials at GGU’s annual Professor Bernie Segal National Criminal Mock Trial Competition In Vino Veritas each fall. My apprentices capture the record in the final mock trial\, which will be virtual again in 2021. Their main task is to speak up for the record in order to produce rough drafts. Unlike traditional internships\, where a reporting student shadows a working reporter\, my apprentices learn how to be THE REPORTER:  They speak up as often as needed to get the best record they can\, mark exhibits\, and produce rough draft transcripts. These mock events are win-win opportunities for all participants: \n• Law students and lawyers benefit from a reporter interrupting them to ensure the integrity of the record when they mumble\, speak too fast\, or talk over one another. Later\, by reading my apprentices’ rough drafts or final transcripts\, they learn how to improve their questioning and defending skills and future performance. \n• Reporting students and new reporters learn to manage fear\, nervousness\, and anxiety; how and when to interrupt; develop self-confidence; and immediately utilize the lessons from these extra-curricular practical skills events in their training and career.
URL:https://anafatimacosta.com/event/golden-gate-university-school-of-laws-final-mock-trial/
CATEGORIES:Court Reporting Trainer
ATTACH;FMTTYPE=image/png:https://anafatimacosta.com/wp-content/uploads/2021/10/GGU-2021-Final-Mock-Trial-2.png
END:VEVENT
BEGIN:VEVENT
DTSTART;TZID=America/Los_Angeles:20211019T150000
DTEND;TZID=America/Los_Angeles:20211019T183000
DTSTAMP:20260424T094200
CREATED:20211008T213751Z
LAST-MODIFIED:20211008T214901Z
UID:225353-1634655600-1634668200@anafatimacosta.com
SUMMARY:Fall 2021 BerkeleyLaw Mock Depositions
DESCRIPTION:Three simultaneous mock deposition sessions reported by high-speed court reporting student apprentices whose main task is to speak up for the record in order to produce rough drafts. \nUnlike traditional internships\, where a reporting student shadows a working reporter\, my apprentices learn how to be THE REPORTER:  They speak up as often as needed to get the best record they can\, mark exhibits\, and produce rough draft transcripts. \nThese mock events are win-win opportunities for all participants: \n• Law students and lawyers benefit from a reporter interrupting them to ensure the integrity of the record when they mumble\, speak too fast\, or talk over one another. Later\, by reading my apprentices’ rough drafts or final transcripts\, they learn how to improve their questioning and defending skills and future performance. \n• Reporting students and new reporters learn to manage fear\, nervousness\, and anxiety; how and when to interrupt; develop self-confidence; and immediately utilize the lessons from these extra-curricular practical skills events in their training and career.
URL:https://anafatimacosta.com/event/fall-2021-berkeleylaw-mock-depositions-2/
LOCATION:UC Berkeley School of Law
CATEGORIES:Court Reporting Trainer
ATTACH;FMTTYPE=image/jpeg:https://anafatimacosta.com/wp-content/uploads/2021/10/244443610_10223263601472909_5444078846225158518_n.jpg
END:VEVENT
BEGIN:VEVENT
DTSTART;TZID=America/Los_Angeles:20211012T150000
DTEND;TZID=America/Los_Angeles:20211012T183000
DTSTAMP:20260424T094200
CREATED:20211007T162018Z
LAST-MODIFIED:20211008T214754Z
UID:225319-1634050800-1634063400@anafatimacosta.com
SUMMARY:Fall 2021 BerkeleyLaw Mock Depositions
DESCRIPTION:Three simultaneous mock deposition sessions reported by high-speed court reporting student apprentices whose main task is to speak up for the record in order to produce rough drafts. \nUnlike traditional internships\, where a reporting student shadows a working reporter\, my apprentices learn how to be THE REPORTER:  They speak up as often as needed to get the best record they can\, mark exhibits\, and produce rough draft transcripts. \nThese mock events are win-win opportunities for all participants: \n• Law students and lawyers benefit from a reporter interrupting them to ensure the integrity of the record when they mumble\, speak too fast\, or talk over one another. Later\, by reading my apprentices’ rough drafts or final transcripts\, they learn how to improve their questioning and defending skills and future performance. \n• Reporting students and new reporters learn to manage fear\, nervousness\, and anxiety; how and when to interrupt; develop self-confidence; and immediately utilize the lessons from these extra-curricular practical skills events in their training and career.
URL:https://anafatimacosta.com/event/fall-2021-berkeleylaw-mock-depositions/
LOCATION:UC Berkeley School of Law
CATEGORIES:Court Reporting Trainer
ATTACH;FMTTYPE=image/jpeg:https://anafatimacosta.com/wp-content/uploads/2021/10/244443610_10223263601472909_5444078846225158518_n.jpg
END:VEVENT
END:VCALENDAR